BEGIN:VCALENDAR
VERSION:2.0
PRODID:-//Hennessy&#039;s of Boston - ECPv6.15.20//NONSGML v1.0//EN
CALSCALE:GREGORIAN
METHOD:PUBLISH
X-WR-CALNAME:Hennessy&#039;s of Boston
X-ORIGINAL-URL:https://hennessysboston.com
X-WR-CALDESC:Events for Hennessy&#039;s of Boston
REFRESH-INTERVAL;VALUE=DURATION:PT1H
X-Robots-Tag:noindex
X-PUBLISHED-TTL:PT1H
BEGIN:VTIMEZONE
TZID:America/New_York
BEGIN:DAYLIGHT
TZOFFSETFROM:-0500
TZOFFSETTO:-0400
TZNAME:EDT
DTSTART:20250309T070000
END:DAYLIGHT
BEGIN:STANDARD
TZOFFSETFROM:-0400
TZOFFSETTO:-0500
TZNAME:EST
DTSTART:20251102T060000
END:STANDARD
BEGIN:DAYLIGHT
TZOFFSETFROM:-0500
TZOFFSETTO:-0400
TZNAME:EDT
DTSTART:20260308T070000
END:DAYLIGHT
BEGIN:STANDARD
TZOFFSETFROM:-0400
TZOFFSETTO:-0500
TZNAME:EST
DTSTART:20261101T060000
END:STANDARD
BEGIN:DAYLIGHT
TZOFFSETFROM:-0500
TZOFFSETTO:-0400
TZNAME:EDT
DTSTART:20270314T070000
END:DAYLIGHT
BEGIN:STANDARD
TZOFFSETFROM:-0400
TZOFFSETTO:-0500
TZNAME:EST
DTSTART:20271107T060000
END:STANDARD
END:VTIMEZONE
BEGIN:VEVENT
DTSTART;TZID=America/New_York:20260423T210000
DTEND;TZID=America/New_York:20260424T013000
DTSTAMP:20260423T091558
CREATED:20260310T175010Z
LAST-MODIFIED:20260310T175010Z
UID:10009115-1776978000-1776994200@hennessysboston.com
SUMMARY:ANDREW GEANO
DESCRIPTION:
URL:https://hennessysboston.com/event/andrew-geano-13/
LOCATION:Hennessy’s\, 25 Union St.\, Boston\, MA\, 02108\, United States
GEO:42.3610028;-71.0567294
X-APPLE-STRUCTURED-LOCATION;VALUE=URI;X-ADDRESS=Hennessy’s 25 Union St. Boston MA 02108 United States;X-APPLE-RADIUS=500;X-TITLE=25 Union St.:geo:-71.0567294,42.3610028
END:VEVENT
BEGIN:VEVENT
DTSTART;TZID=America/New_York:20260424T213000
DTEND;TZID=America/New_York:20260425T013000
DTSTAMP:20260423T091558
CREATED:20260310T175048Z
LAST-MODIFIED:20260310T175048Z
UID:10009116-1777066200-1777080600@hennessysboston.com
SUMMARY:ELI CASH
DESCRIPTION:
URL:https://hennessysboston.com/event/eli-cash-6/
LOCATION:Hennessy’s\, 25 Union St.\, Boston\, MA\, 02108\, United States
GEO:42.3610028;-71.0567294
X-APPLE-STRUCTURED-LOCATION;VALUE=URI;X-ADDRESS=Hennessy’s 25 Union St. Boston MA 02108 United States;X-APPLE-RADIUS=500;X-TITLE=25 Union St.:geo:-71.0567294,42.3610028
END:VEVENT
BEGIN:VEVENT
DTSTART;TZID=America/New_York:20260426T210000
DTEND;TZID=America/New_York:20260427T010000
DTSTAMP:20260423T091558
CREATED:20250305T213647Z
LAST-MODIFIED:20260309T204458Z
UID:10007762-1777237200-1777251600@hennessysboston.com
SUMMARY:DJ Todd Karaoke
DESCRIPTION:
URL:https://hennessysboston.com/event/maverick-karaoke/2026-04-26/
LOCATION:Hennessy’s\, 25 Union St.\, Boston\, MA\, 02108\, United States
GEO:42.3610028;-71.0567294
X-APPLE-STRUCTURED-LOCATION;VALUE=URI;X-ADDRESS=Hennessy’s 25 Union St. Boston MA 02108 United States;X-APPLE-RADIUS=500;X-TITLE=25 Union St.:geo:-71.0567294,42.3610028
END:VEVENT
BEGIN:VEVENT
DTSTART;TZID=America/New_York:20260427T200000
DTEND;TZID=America/New_York:20260427T230000
DTSTAMP:20260423T091558
CREATED:20250305T213842Z
LAST-MODIFIED:20250305T213842Z
UID:10008022-1777320000-1777330800@hennessysboston.com
SUMMARY:Joe Carson 8-11pm
DESCRIPTION:
URL:https://hennessysboston.com/event/joe-carson-8-11pm/2026-04-27/
LOCATION:Hennessy’s\, 25 Union St.\, Boston\, MA\, 02108\, United States
GEO:42.3610028;-71.0567294
X-APPLE-STRUCTURED-LOCATION;VALUE=URI;X-ADDRESS=Hennessy’s 25 Union St. Boston MA 02108 United States;X-APPLE-RADIUS=500;X-TITLE=25 Union St.:geo:-71.0567294,42.3610028
END:VEVENT
BEGIN:VEVENT
DTSTART;TZID=America/New_York:20260428T200000
DTEND;TZID=America/New_York:20260428T230000
DTSTAMP:20260423T091558
CREATED:20250305T213942Z
LAST-MODIFIED:20260309T204739Z
UID:10008283-1777406400-1777417200@hennessysboston.com
SUMMARY:Gina Garda 8-11pm
DESCRIPTION:
URL:https://hennessysboston.com/event/gina-garda-8-11pm/2026-04-28/
LOCATION:Hennessy’s\, 25 Union St.\, Boston\, MA\, 02108\, United States
GEO:42.3610028;-71.0567294
X-APPLE-STRUCTURED-LOCATION;VALUE=URI;X-ADDRESS=Hennessy’s 25 Union St. Boston MA 02108 United States;X-APPLE-RADIUS=500;X-TITLE=25 Union St.:geo:-71.0567294,42.3610028
END:VEVENT
BEGIN:VEVENT
DTSTART;TZID=America/New_York:20260430T210000
DTEND;TZID=America/New_York:20260501T013000
DTSTAMP:20260423T091558
CREATED:20260310T175228Z
LAST-MODIFIED:20260310T175228Z
UID:10009117-1777582800-1777599000@hennessysboston.com
SUMMARY:SEAN CAULFIELD
DESCRIPTION:
URL:https://hennessysboston.com/event/sean-caulfield-2/
LOCATION:Hennessy’s\, 25 Union St.\, Boston\, MA\, 02108\, United States
GEO:42.3610028;-71.0567294
X-APPLE-STRUCTURED-LOCATION;VALUE=URI;X-ADDRESS=Hennessy’s 25 Union St. Boston MA 02108 United States;X-APPLE-RADIUS=500;X-TITLE=25 Union St.:geo:-71.0567294,42.3610028
END:VEVENT
END:VCALENDAR