BEGIN:VCALENDAR
VERSION:2.0
PRODID:-//Hennessy&#039;s of Boston - ECPv6.15.20//NONSGML v1.0//EN
CALSCALE:GREGORIAN
METHOD:PUBLISH
X-WR-CALNAME:Hennessy&#039;s of Boston
X-ORIGINAL-URL:https://hennessysboston.com
X-WR-CALDESC:Events for Hennessy&#039;s of Boston
REFRESH-INTERVAL;VALUE=DURATION:PT1H
X-Robots-Tag:noindex
X-PUBLISHED-TTL:PT1H
BEGIN:VTIMEZONE
TZID:America/New_York
BEGIN:DAYLIGHT
TZOFFSETFROM:-0500
TZOFFSETTO:-0400
TZNAME:EDT
DTSTART:20250309T070000
END:DAYLIGHT
BEGIN:STANDARD
TZOFFSETFROM:-0400
TZOFFSETTO:-0500
TZNAME:EST
DTSTART:20251102T060000
END:STANDARD
BEGIN:DAYLIGHT
TZOFFSETFROM:-0500
TZOFFSETTO:-0400
TZNAME:EDT
DTSTART:20260308T070000
END:DAYLIGHT
BEGIN:STANDARD
TZOFFSETFROM:-0400
TZOFFSETTO:-0500
TZNAME:EST
DTSTART:20261101T060000
END:STANDARD
BEGIN:DAYLIGHT
TZOFFSETFROM:-0500
TZOFFSETTO:-0400
TZNAME:EDT
DTSTART:20270314T070000
END:DAYLIGHT
BEGIN:STANDARD
TZOFFSETFROM:-0400
TZOFFSETTO:-0500
TZNAME:EST
DTSTART:20271107T060000
END:STANDARD
END:VTIMEZONE
BEGIN:VEVENT
DTSTART;TZID=America/New_York:20260426T210000
DTEND;TZID=America/New_York:20260427T010000
DTSTAMP:20260423T110420
CREATED:20250305T213647Z
LAST-MODIFIED:20260309T204458Z
UID:10007762-1777237200-1777251600@hennessysboston.com
SUMMARY:DJ Todd Karaoke
DESCRIPTION:
URL:https://hennessysboston.com/event/maverick-karaoke/2026-04-26/
LOCATION:Hennessy’s\, 25 Union St.\, Boston\, MA\, 02108\, United States
GEO:42.3610028;-71.0567294
X-APPLE-STRUCTURED-LOCATION;VALUE=URI;X-ADDRESS=Hennessy’s 25 Union St. Boston MA 02108 United States;X-APPLE-RADIUS=500;X-TITLE=25 Union St.:geo:-71.0567294,42.3610028
END:VEVENT
BEGIN:VEVENT
DTSTART;TZID=America/New_York:20260503T210000
DTEND;TZID=America/New_York:20260504T010000
DTSTAMP:20260423T110420
CREATED:20250305T213647Z
LAST-MODIFIED:20260309T204458Z
UID:10007763-1777842000-1777856400@hennessysboston.com
SUMMARY:DJ Todd Karaoke
DESCRIPTION:
URL:https://hennessysboston.com/event/maverick-karaoke/2026-05-03/
LOCATION:Hennessy’s\, 25 Union St.\, Boston\, MA\, 02108\, United States
GEO:42.3610028;-71.0567294
X-APPLE-STRUCTURED-LOCATION;VALUE=URI;X-ADDRESS=Hennessy’s 25 Union St. Boston MA 02108 United States;X-APPLE-RADIUS=500;X-TITLE=25 Union St.:geo:-71.0567294,42.3610028
END:VEVENT
BEGIN:VEVENT
DTSTART;TZID=America/New_York:20260510T210000
DTEND;TZID=America/New_York:20260511T010000
DTSTAMP:20260423T110420
CREATED:20250305T213647Z
LAST-MODIFIED:20260309T204458Z
UID:10007764-1778446800-1778461200@hennessysboston.com
SUMMARY:DJ Todd Karaoke
DESCRIPTION:
URL:https://hennessysboston.com/event/maverick-karaoke/2026-05-10/
LOCATION:Hennessy’s\, 25 Union St.\, Boston\, MA\, 02108\, United States
GEO:42.3610028;-71.0567294
X-APPLE-STRUCTURED-LOCATION;VALUE=URI;X-ADDRESS=Hennessy’s 25 Union St. Boston MA 02108 United States;X-APPLE-RADIUS=500;X-TITLE=25 Union St.:geo:-71.0567294,42.3610028
END:VEVENT
BEGIN:VEVENT
DTSTART;TZID=America/New_York:20260517T210000
DTEND;TZID=America/New_York:20260518T010000
DTSTAMP:20260423T110420
CREATED:20250305T213647Z
LAST-MODIFIED:20260309T204458Z
UID:10007765-1779051600-1779066000@hennessysboston.com
SUMMARY:DJ Todd Karaoke
DESCRIPTION:
URL:https://hennessysboston.com/event/maverick-karaoke/2026-05-17/
LOCATION:Hennessy’s\, 25 Union St.\, Boston\, MA\, 02108\, United States
GEO:42.3610028;-71.0567294
X-APPLE-STRUCTURED-LOCATION;VALUE=URI;X-ADDRESS=Hennessy’s 25 Union St. Boston MA 02108 United States;X-APPLE-RADIUS=500;X-TITLE=25 Union St.:geo:-71.0567294,42.3610028
END:VEVENT
BEGIN:VEVENT
DTSTART;TZID=America/New_York:20260524T210000
DTEND;TZID=America/New_York:20260525T010000
DTSTAMP:20260423T110420
CREATED:20250305T213647Z
LAST-MODIFIED:20260309T204458Z
UID:10007766-1779656400-1779670800@hennessysboston.com
SUMMARY:DJ Todd Karaoke
DESCRIPTION:
URL:https://hennessysboston.com/event/maverick-karaoke/2026-05-24/
LOCATION:Hennessy’s\, 25 Union St.\, Boston\, MA\, 02108\, United States
GEO:42.3610028;-71.0567294
X-APPLE-STRUCTURED-LOCATION;VALUE=URI;X-ADDRESS=Hennessy’s 25 Union St. Boston MA 02108 United States;X-APPLE-RADIUS=500;X-TITLE=25 Union St.:geo:-71.0567294,42.3610028
END:VEVENT
BEGIN:VEVENT
DTSTART;TZID=America/New_York:20260531T210000
DTEND;TZID=America/New_York:20260601T010000
DTSTAMP:20260423T110420
CREATED:20250305T213647Z
LAST-MODIFIED:20260309T204458Z
UID:10007767-1780261200-1780275600@hennessysboston.com
SUMMARY:DJ Todd Karaoke
DESCRIPTION:
URL:https://hennessysboston.com/event/maverick-karaoke/2026-05-31/
LOCATION:Hennessy’s\, 25 Union St.\, Boston\, MA\, 02108\, United States
GEO:42.3610028;-71.0567294
X-APPLE-STRUCTURED-LOCATION;VALUE=URI;X-ADDRESS=Hennessy’s 25 Union St. Boston MA 02108 United States;X-APPLE-RADIUS=500;X-TITLE=25 Union St.:geo:-71.0567294,42.3610028
END:VEVENT
BEGIN:VEVENT
DTSTART;TZID=America/New_York:20260607T210000
DTEND;TZID=America/New_York:20260608T010000
DTSTAMP:20260423T110420
CREATED:20250305T213647Z
LAST-MODIFIED:20260309T204458Z
UID:10007768-1780866000-1780880400@hennessysboston.com
SUMMARY:DJ Todd Karaoke
DESCRIPTION:
URL:https://hennessysboston.com/event/maverick-karaoke/2026-06-07/
LOCATION:Hennessy’s\, 25 Union St.\, Boston\, MA\, 02108\, United States
GEO:42.3610028;-71.0567294
X-APPLE-STRUCTURED-LOCATION;VALUE=URI;X-ADDRESS=Hennessy’s 25 Union St. Boston MA 02108 United States;X-APPLE-RADIUS=500;X-TITLE=25 Union St.:geo:-71.0567294,42.3610028
END:VEVENT
BEGIN:VEVENT
DTSTART;TZID=America/New_York:20260614T210000
DTEND;TZID=America/New_York:20260615T010000
DTSTAMP:20260423T110420
CREATED:20250305T213647Z
LAST-MODIFIED:20260309T204458Z
UID:10007769-1781470800-1781485200@hennessysboston.com
SUMMARY:DJ Todd Karaoke
DESCRIPTION:
URL:https://hennessysboston.com/event/maverick-karaoke/2026-06-14/
LOCATION:Hennessy’s\, 25 Union St.\, Boston\, MA\, 02108\, United States
GEO:42.3610028;-71.0567294
X-APPLE-STRUCTURED-LOCATION;VALUE=URI;X-ADDRESS=Hennessy’s 25 Union St. Boston MA 02108 United States;X-APPLE-RADIUS=500;X-TITLE=25 Union St.:geo:-71.0567294,42.3610028
END:VEVENT
BEGIN:VEVENT
DTSTART;TZID=America/New_York:20260621T210000
DTEND;TZID=America/New_York:20260622T010000
DTSTAMP:20260423T110420
CREATED:20250305T213647Z
LAST-MODIFIED:20260309T204458Z
UID:10007770-1782075600-1782090000@hennessysboston.com
SUMMARY:DJ Todd Karaoke
DESCRIPTION:
URL:https://hennessysboston.com/event/maverick-karaoke/2026-06-21/
LOCATION:Hennessy’s\, 25 Union St.\, Boston\, MA\, 02108\, United States
GEO:42.3610028;-71.0567294
X-APPLE-STRUCTURED-LOCATION;VALUE=URI;X-ADDRESS=Hennessy’s 25 Union St. Boston MA 02108 United States;X-APPLE-RADIUS=500;X-TITLE=25 Union St.:geo:-71.0567294,42.3610028
END:VEVENT
BEGIN:VEVENT
DTSTART;TZID=America/New_York:20260628T210000
DTEND;TZID=America/New_York:20260629T010000
DTSTAMP:20260423T110420
CREATED:20250305T213647Z
LAST-MODIFIED:20260309T204458Z
UID:10007771-1782680400-1782694800@hennessysboston.com
SUMMARY:DJ Todd Karaoke
DESCRIPTION:
URL:https://hennessysboston.com/event/maverick-karaoke/2026-06-28/
LOCATION:Hennessy’s\, 25 Union St.\, Boston\, MA\, 02108\, United States
GEO:42.3610028;-71.0567294
X-APPLE-STRUCTURED-LOCATION;VALUE=URI;X-ADDRESS=Hennessy’s 25 Union St. Boston MA 02108 United States;X-APPLE-RADIUS=500;X-TITLE=25 Union St.:geo:-71.0567294,42.3610028
END:VEVENT
BEGIN:VEVENT
DTSTART;TZID=America/New_York:20260705T210000
DTEND;TZID=America/New_York:20260706T010000
DTSTAMP:20260423T110420
CREATED:20250305T213647Z
LAST-MODIFIED:20260309T204458Z
UID:10007772-1783285200-1783299600@hennessysboston.com
SUMMARY:DJ Todd Karaoke
DESCRIPTION:
URL:https://hennessysboston.com/event/maverick-karaoke/2026-07-05/
LOCATION:Hennessy’s\, 25 Union St.\, Boston\, MA\, 02108\, United States
GEO:42.3610028;-71.0567294
X-APPLE-STRUCTURED-LOCATION;VALUE=URI;X-ADDRESS=Hennessy’s 25 Union St. Boston MA 02108 United States;X-APPLE-RADIUS=500;X-TITLE=25 Union St.:geo:-71.0567294,42.3610028
END:VEVENT
BEGIN:VEVENT
DTSTART;TZID=America/New_York:20260712T210000
DTEND;TZID=America/New_York:20260713T010000
DTSTAMP:20260423T110420
CREATED:20250305T213647Z
LAST-MODIFIED:20260309T204458Z
UID:10007773-1783890000-1783904400@hennessysboston.com
SUMMARY:DJ Todd Karaoke
DESCRIPTION:
URL:https://hennessysboston.com/event/maverick-karaoke/2026-07-12/
LOCATION:Hennessy’s\, 25 Union St.\, Boston\, MA\, 02108\, United States
GEO:42.3610028;-71.0567294
X-APPLE-STRUCTURED-LOCATION;VALUE=URI;X-ADDRESS=Hennessy’s 25 Union St. Boston MA 02108 United States;X-APPLE-RADIUS=500;X-TITLE=25 Union St.:geo:-71.0567294,42.3610028
END:VEVENT
BEGIN:VEVENT
DTSTART;TZID=America/New_York:20260719T210000
DTEND;TZID=America/New_York:20260720T010000
DTSTAMP:20260423T110420
CREATED:20250305T213647Z
LAST-MODIFIED:20260309T204458Z
UID:10007774-1784494800-1784509200@hennessysboston.com
SUMMARY:DJ Todd Karaoke
DESCRIPTION:
URL:https://hennessysboston.com/event/maverick-karaoke/2026-07-19/
LOCATION:Hennessy’s\, 25 Union St.\, Boston\, MA\, 02108\, United States
GEO:42.3610028;-71.0567294
X-APPLE-STRUCTURED-LOCATION;VALUE=URI;X-ADDRESS=Hennessy’s 25 Union St. Boston MA 02108 United States;X-APPLE-RADIUS=500;X-TITLE=25 Union St.:geo:-71.0567294,42.3610028
END:VEVENT
BEGIN:VEVENT
DTSTART;TZID=America/New_York:20260726T210000
DTEND;TZID=America/New_York:20260727T010000
DTSTAMP:20260423T110420
CREATED:20250305T213647Z
LAST-MODIFIED:20260309T204458Z
UID:10007775-1785099600-1785114000@hennessysboston.com
SUMMARY:DJ Todd Karaoke
DESCRIPTION:
URL:https://hennessysboston.com/event/maverick-karaoke/2026-07-26/
LOCATION:Hennessy’s\, 25 Union St.\, Boston\, MA\, 02108\, United States
GEO:42.3610028;-71.0567294
X-APPLE-STRUCTURED-LOCATION;VALUE=URI;X-ADDRESS=Hennessy’s 25 Union St. Boston MA 02108 United States;X-APPLE-RADIUS=500;X-TITLE=25 Union St.:geo:-71.0567294,42.3610028
END:VEVENT
BEGIN:VEVENT
DTSTART;TZID=America/New_York:20260802T210000
DTEND;TZID=America/New_York:20260803T010000
DTSTAMP:20260423T110420
CREATED:20250305T213647Z
LAST-MODIFIED:20260309T204458Z
UID:10007776-1785704400-1785718800@hennessysboston.com
SUMMARY:DJ Todd Karaoke
DESCRIPTION:
URL:https://hennessysboston.com/event/maverick-karaoke/2026-08-02/
LOCATION:Hennessy’s\, 25 Union St.\, Boston\, MA\, 02108\, United States
GEO:42.3610028;-71.0567294
X-APPLE-STRUCTURED-LOCATION;VALUE=URI;X-ADDRESS=Hennessy’s 25 Union St. Boston MA 02108 United States;X-APPLE-RADIUS=500;X-TITLE=25 Union St.:geo:-71.0567294,42.3610028
END:VEVENT
BEGIN:VEVENT
DTSTART;TZID=America/New_York:20260809T210000
DTEND;TZID=America/New_York:20260810T010000
DTSTAMP:20260423T110420
CREATED:20250305T213647Z
LAST-MODIFIED:20260309T204458Z
UID:10007777-1786309200-1786323600@hennessysboston.com
SUMMARY:DJ Todd Karaoke
DESCRIPTION:
URL:https://hennessysboston.com/event/maverick-karaoke/2026-08-09/
LOCATION:Hennessy’s\, 25 Union St.\, Boston\, MA\, 02108\, United States
GEO:42.3610028;-71.0567294
X-APPLE-STRUCTURED-LOCATION;VALUE=URI;X-ADDRESS=Hennessy’s 25 Union St. Boston MA 02108 United States;X-APPLE-RADIUS=500;X-TITLE=25 Union St.:geo:-71.0567294,42.3610028
END:VEVENT
BEGIN:VEVENT
DTSTART;TZID=America/New_York:20260816T210000
DTEND;TZID=America/New_York:20260817T010000
DTSTAMP:20260423T110420
CREATED:20250305T213647Z
LAST-MODIFIED:20260309T204458Z
UID:10007778-1786914000-1786928400@hennessysboston.com
SUMMARY:DJ Todd Karaoke
DESCRIPTION:
URL:https://hennessysboston.com/event/maverick-karaoke/2026-08-16/
LOCATION:Hennessy’s\, 25 Union St.\, Boston\, MA\, 02108\, United States
GEO:42.3610028;-71.0567294
X-APPLE-STRUCTURED-LOCATION;VALUE=URI;X-ADDRESS=Hennessy’s 25 Union St. Boston MA 02108 United States;X-APPLE-RADIUS=500;X-TITLE=25 Union St.:geo:-71.0567294,42.3610028
END:VEVENT
BEGIN:VEVENT
DTSTART;TZID=America/New_York:20260823T210000
DTEND;TZID=America/New_York:20260824T010000
DTSTAMP:20260423T110420
CREATED:20250305T213647Z
LAST-MODIFIED:20260309T204458Z
UID:10007779-1787518800-1787533200@hennessysboston.com
SUMMARY:DJ Todd Karaoke
DESCRIPTION:
URL:https://hennessysboston.com/event/maverick-karaoke/2026-08-23/
LOCATION:Hennessy’s\, 25 Union St.\, Boston\, MA\, 02108\, United States
GEO:42.3610028;-71.0567294
X-APPLE-STRUCTURED-LOCATION;VALUE=URI;X-ADDRESS=Hennessy’s 25 Union St. Boston MA 02108 United States;X-APPLE-RADIUS=500;X-TITLE=25 Union St.:geo:-71.0567294,42.3610028
END:VEVENT
BEGIN:VEVENT
DTSTART;TZID=America/New_York:20260830T210000
DTEND;TZID=America/New_York:20260831T010000
DTSTAMP:20260423T110420
CREATED:20250305T213647Z
LAST-MODIFIED:20260309T204458Z
UID:10007780-1788123600-1788138000@hennessysboston.com
SUMMARY:DJ Todd Karaoke
DESCRIPTION:
URL:https://hennessysboston.com/event/maverick-karaoke/2026-08-30/
LOCATION:Hennessy’s\, 25 Union St.\, Boston\, MA\, 02108\, United States
GEO:42.3610028;-71.0567294
X-APPLE-STRUCTURED-LOCATION;VALUE=URI;X-ADDRESS=Hennessy’s 25 Union St. Boston MA 02108 United States;X-APPLE-RADIUS=500;X-TITLE=25 Union St.:geo:-71.0567294,42.3610028
END:VEVENT
BEGIN:VEVENT
DTSTART;TZID=America/New_York:20260906T210000
DTEND;TZID=America/New_York:20260907T010000
DTSTAMP:20260423T110420
CREATED:20250305T213647Z
LAST-MODIFIED:20260309T204458Z
UID:10007781-1788728400-1788742800@hennessysboston.com
SUMMARY:DJ Todd Karaoke
DESCRIPTION:
URL:https://hennessysboston.com/event/maverick-karaoke/2026-09-06/
LOCATION:Hennessy’s\, 25 Union St.\, Boston\, MA\, 02108\, United States
GEO:42.3610028;-71.0567294
X-APPLE-STRUCTURED-LOCATION;VALUE=URI;X-ADDRESS=Hennessy’s 25 Union St. Boston MA 02108 United States;X-APPLE-RADIUS=500;X-TITLE=25 Union St.:geo:-71.0567294,42.3610028
END:VEVENT
BEGIN:VEVENT
DTSTART;TZID=America/New_York:20260913T210000
DTEND;TZID=America/New_York:20260914T010000
DTSTAMP:20260423T110420
CREATED:20250305T213647Z
LAST-MODIFIED:20260309T204458Z
UID:10007782-1789333200-1789347600@hennessysboston.com
SUMMARY:DJ Todd Karaoke
DESCRIPTION:
URL:https://hennessysboston.com/event/maverick-karaoke/2026-09-13/
LOCATION:Hennessy’s\, 25 Union St.\, Boston\, MA\, 02108\, United States
GEO:42.3610028;-71.0567294
X-APPLE-STRUCTURED-LOCATION;VALUE=URI;X-ADDRESS=Hennessy’s 25 Union St. Boston MA 02108 United States;X-APPLE-RADIUS=500;X-TITLE=25 Union St.:geo:-71.0567294,42.3610028
END:VEVENT
BEGIN:VEVENT
DTSTART;TZID=America/New_York:20260920T210000
DTEND;TZID=America/New_York:20260921T010000
DTSTAMP:20260423T110420
CREATED:20250305T213647Z
LAST-MODIFIED:20260309T204458Z
UID:10007783-1789938000-1789952400@hennessysboston.com
SUMMARY:DJ Todd Karaoke
DESCRIPTION:
URL:https://hennessysboston.com/event/maverick-karaoke/2026-09-20/
LOCATION:Hennessy’s\, 25 Union St.\, Boston\, MA\, 02108\, United States
GEO:42.3610028;-71.0567294
X-APPLE-STRUCTURED-LOCATION;VALUE=URI;X-ADDRESS=Hennessy’s 25 Union St. Boston MA 02108 United States;X-APPLE-RADIUS=500;X-TITLE=25 Union St.:geo:-71.0567294,42.3610028
END:VEVENT
BEGIN:VEVENT
DTSTART;TZID=America/New_York:20260927T210000
DTEND;TZID=America/New_York:20260928T010000
DTSTAMP:20260423T110420
CREATED:20250305T213647Z
LAST-MODIFIED:20260309T204458Z
UID:10007784-1790542800-1790557200@hennessysboston.com
SUMMARY:DJ Todd Karaoke
DESCRIPTION:
URL:https://hennessysboston.com/event/maverick-karaoke/2026-09-27/
LOCATION:Hennessy’s\, 25 Union St.\, Boston\, MA\, 02108\, United States
GEO:42.3610028;-71.0567294
X-APPLE-STRUCTURED-LOCATION;VALUE=URI;X-ADDRESS=Hennessy’s 25 Union St. Boston MA 02108 United States;X-APPLE-RADIUS=500;X-TITLE=25 Union St.:geo:-71.0567294,42.3610028
END:VEVENT
BEGIN:VEVENT
DTSTART;TZID=America/New_York:20261004T210000
DTEND;TZID=America/New_York:20261005T010000
DTSTAMP:20260423T110420
CREATED:20250305T213647Z
LAST-MODIFIED:20260309T204458Z
UID:10007785-1791147600-1791162000@hennessysboston.com
SUMMARY:DJ Todd Karaoke
DESCRIPTION:
URL:https://hennessysboston.com/event/maverick-karaoke/2026-10-04/
LOCATION:Hennessy’s\, 25 Union St.\, Boston\, MA\, 02108\, United States
GEO:42.3610028;-71.0567294
X-APPLE-STRUCTURED-LOCATION;VALUE=URI;X-ADDRESS=Hennessy’s 25 Union St. Boston MA 02108 United States;X-APPLE-RADIUS=500;X-TITLE=25 Union St.:geo:-71.0567294,42.3610028
END:VEVENT
BEGIN:VEVENT
DTSTART;TZID=America/New_York:20261011T210000
DTEND;TZID=America/New_York:20261012T010000
DTSTAMP:20260423T110420
CREATED:20250305T213647Z
LAST-MODIFIED:20260309T204458Z
UID:10007786-1791752400-1791766800@hennessysboston.com
SUMMARY:DJ Todd Karaoke
DESCRIPTION:
URL:https://hennessysboston.com/event/maverick-karaoke/2026-10-11/
LOCATION:Hennessy’s\, 25 Union St.\, Boston\, MA\, 02108\, United States
GEO:42.3610028;-71.0567294
X-APPLE-STRUCTURED-LOCATION;VALUE=URI;X-ADDRESS=Hennessy’s 25 Union St. Boston MA 02108 United States;X-APPLE-RADIUS=500;X-TITLE=25 Union St.:geo:-71.0567294,42.3610028
END:VEVENT
BEGIN:VEVENT
DTSTART;TZID=America/New_York:20261018T210000
DTEND;TZID=America/New_York:20261019T010000
DTSTAMP:20260423T110420
CREATED:20250305T213647Z
LAST-MODIFIED:20260309T204458Z
UID:10007787-1792357200-1792371600@hennessysboston.com
SUMMARY:DJ Todd Karaoke
DESCRIPTION:
URL:https://hennessysboston.com/event/maverick-karaoke/2026-10-18/
LOCATION:Hennessy’s\, 25 Union St.\, Boston\, MA\, 02108\, United States
GEO:42.3610028;-71.0567294
X-APPLE-STRUCTURED-LOCATION;VALUE=URI;X-ADDRESS=Hennessy’s 25 Union St. Boston MA 02108 United States;X-APPLE-RADIUS=500;X-TITLE=25 Union St.:geo:-71.0567294,42.3610028
END:VEVENT
BEGIN:VEVENT
DTSTART;TZID=America/New_York:20261025T210000
DTEND;TZID=America/New_York:20261026T010000
DTSTAMP:20260423T110420
CREATED:20250305T213647Z
LAST-MODIFIED:20260309T204458Z
UID:10007788-1792962000-1792976400@hennessysboston.com
SUMMARY:DJ Todd Karaoke
DESCRIPTION:
URL:https://hennessysboston.com/event/maverick-karaoke/2026-10-25/
LOCATION:Hennessy’s\, 25 Union St.\, Boston\, MA\, 02108\, United States
GEO:42.3610028;-71.0567294
X-APPLE-STRUCTURED-LOCATION;VALUE=URI;X-ADDRESS=Hennessy’s 25 Union St. Boston MA 02108 United States;X-APPLE-RADIUS=500;X-TITLE=25 Union St.:geo:-71.0567294,42.3610028
END:VEVENT
BEGIN:VEVENT
DTSTART;TZID=America/New_York:20261101T210000
DTEND;TZID=America/New_York:20261102T010000
DTSTAMP:20260423T110420
CREATED:20250305T213647Z
LAST-MODIFIED:20260309T204458Z
UID:10007789-1793566800-1793581200@hennessysboston.com
SUMMARY:DJ Todd Karaoke
DESCRIPTION:
URL:https://hennessysboston.com/event/maverick-karaoke/2026-11-01/
LOCATION:Hennessy’s\, 25 Union St.\, Boston\, MA\, 02108\, United States
GEO:42.3610028;-71.0567294
X-APPLE-STRUCTURED-LOCATION;VALUE=URI;X-ADDRESS=Hennessy’s 25 Union St. Boston MA 02108 United States;X-APPLE-RADIUS=500;X-TITLE=25 Union St.:geo:-71.0567294,42.3610028
END:VEVENT
BEGIN:VEVENT
DTSTART;TZID=America/New_York:20261108T210000
DTEND;TZID=America/New_York:20261109T010000
DTSTAMP:20260423T110420
CREATED:20250305T213647Z
LAST-MODIFIED:20260309T204458Z
UID:10007790-1794171600-1794186000@hennessysboston.com
SUMMARY:DJ Todd Karaoke
DESCRIPTION:
URL:https://hennessysboston.com/event/maverick-karaoke/2026-11-08/
LOCATION:Hennessy’s\, 25 Union St.\, Boston\, MA\, 02108\, United States
GEO:42.3610028;-71.0567294
X-APPLE-STRUCTURED-LOCATION;VALUE=URI;X-ADDRESS=Hennessy’s 25 Union St. Boston MA 02108 United States;X-APPLE-RADIUS=500;X-TITLE=25 Union St.:geo:-71.0567294,42.3610028
END:VEVENT
BEGIN:VEVENT
DTSTART;TZID=America/New_York:20261115T210000
DTEND;TZID=America/New_York:20261116T010000
DTSTAMP:20260423T110420
CREATED:20250305T213647Z
LAST-MODIFIED:20260309T204458Z
UID:10007791-1794776400-1794790800@hennessysboston.com
SUMMARY:DJ Todd Karaoke
DESCRIPTION:
URL:https://hennessysboston.com/event/maverick-karaoke/2026-11-15/
LOCATION:Hennessy’s\, 25 Union St.\, Boston\, MA\, 02108\, United States
GEO:42.3610028;-71.0567294
X-APPLE-STRUCTURED-LOCATION;VALUE=URI;X-ADDRESS=Hennessy’s 25 Union St. Boston MA 02108 United States;X-APPLE-RADIUS=500;X-TITLE=25 Union St.:geo:-71.0567294,42.3610028
END:VEVENT
END:VCALENDAR