BEGIN:VCALENDAR
VERSION:2.0
PRODID:-//Hennessy&#039;s of Boston - ECPv6.15.20//NONSGML v1.0//EN
CALSCALE:GREGORIAN
METHOD:PUBLISH
X-WR-CALNAME:Hennessy&#039;s of Boston
X-ORIGINAL-URL:https://hennessysboston.com
X-WR-CALDESC:Events for Hennessy&#039;s of Boston
REFRESH-INTERVAL;VALUE=DURATION:PT1H
X-Robots-Tag:noindex
X-PUBLISHED-TTL:PT1H
BEGIN:VTIMEZONE
TZID:America/New_York
BEGIN:DAYLIGHT
TZOFFSETFROM:-0500
TZOFFSETTO:-0400
TZNAME:EDT
DTSTART:20250309T070000
END:DAYLIGHT
BEGIN:STANDARD
TZOFFSETFROM:-0400
TZOFFSETTO:-0500
TZNAME:EST
DTSTART:20251102T060000
END:STANDARD
BEGIN:DAYLIGHT
TZOFFSETFROM:-0500
TZOFFSETTO:-0400
TZNAME:EDT
DTSTART:20260308T070000
END:DAYLIGHT
BEGIN:STANDARD
TZOFFSETFROM:-0400
TZOFFSETTO:-0500
TZNAME:EST
DTSTART:20261101T060000
END:STANDARD
BEGIN:DAYLIGHT
TZOFFSETFROM:-0500
TZOFFSETTO:-0400
TZNAME:EDT
DTSTART:20270314T070000
END:DAYLIGHT
BEGIN:STANDARD
TZOFFSETFROM:-0400
TZOFFSETTO:-0500
TZNAME:EST
DTSTART:20271107T060000
END:STANDARD
END:VTIMEZONE
BEGIN:VEVENT
DTSTART;TZID=America/New_York:20260428T200000
DTEND;TZID=America/New_York:20260428T230000
DTSTAMP:20260423T111654
CREATED:20250305T213942Z
LAST-MODIFIED:20260309T204739Z
UID:10008283-1777406400-1777417200@hennessysboston.com
SUMMARY:Gina Garda 8-11pm
DESCRIPTION:
URL:https://hennessysboston.com/event/gina-garda-8-11pm/2026-04-28/
LOCATION:Hennessy’s\, 25 Union St.\, Boston\, MA\, 02108\, United States
GEO:42.3610028;-71.0567294
X-APPLE-STRUCTURED-LOCATION;VALUE=URI;X-ADDRESS=Hennessy’s 25 Union St. Boston MA 02108 United States;X-APPLE-RADIUS=500;X-TITLE=25 Union St.:geo:-71.0567294,42.3610028
END:VEVENT
BEGIN:VEVENT
DTSTART;TZID=America/New_York:20260505T200000
DTEND;TZID=America/New_York:20260505T230000
DTSTAMP:20260423T111654
CREATED:20250305T213942Z
LAST-MODIFIED:20260309T204739Z
UID:10008284-1778011200-1778022000@hennessysboston.com
SUMMARY:Gina Garda 8-11pm
DESCRIPTION:
URL:https://hennessysboston.com/event/gina-garda-8-11pm/2026-05-05/
LOCATION:Hennessy’s\, 25 Union St.\, Boston\, MA\, 02108\, United States
GEO:42.3610028;-71.0567294
X-APPLE-STRUCTURED-LOCATION;VALUE=URI;X-ADDRESS=Hennessy’s 25 Union St. Boston MA 02108 United States;X-APPLE-RADIUS=500;X-TITLE=25 Union St.:geo:-71.0567294,42.3610028
END:VEVENT
BEGIN:VEVENT
DTSTART;TZID=America/New_York:20260512T200000
DTEND;TZID=America/New_York:20260512T230000
DTSTAMP:20260423T111654
CREATED:20250305T213942Z
LAST-MODIFIED:20260309T204739Z
UID:10008285-1778616000-1778626800@hennessysboston.com
SUMMARY:Gina Garda 8-11pm
DESCRIPTION:
URL:https://hennessysboston.com/event/gina-garda-8-11pm/2026-05-12/
LOCATION:Hennessy’s\, 25 Union St.\, Boston\, MA\, 02108\, United States
GEO:42.3610028;-71.0567294
X-APPLE-STRUCTURED-LOCATION;VALUE=URI;X-ADDRESS=Hennessy’s 25 Union St. Boston MA 02108 United States;X-APPLE-RADIUS=500;X-TITLE=25 Union St.:geo:-71.0567294,42.3610028
END:VEVENT
BEGIN:VEVENT
DTSTART;TZID=America/New_York:20260519T200000
DTEND;TZID=America/New_York:20260519T230000
DTSTAMP:20260423T111654
CREATED:20250305T213942Z
LAST-MODIFIED:20260309T204739Z
UID:10008286-1779220800-1779231600@hennessysboston.com
SUMMARY:Gina Garda 8-11pm
DESCRIPTION:
URL:https://hennessysboston.com/event/gina-garda-8-11pm/2026-05-19/
LOCATION:Hennessy’s\, 25 Union St.\, Boston\, MA\, 02108\, United States
GEO:42.3610028;-71.0567294
X-APPLE-STRUCTURED-LOCATION;VALUE=URI;X-ADDRESS=Hennessy’s 25 Union St. Boston MA 02108 United States;X-APPLE-RADIUS=500;X-TITLE=25 Union St.:geo:-71.0567294,42.3610028
END:VEVENT
BEGIN:VEVENT
DTSTART;TZID=America/New_York:20260526T200000
DTEND;TZID=America/New_York:20260526T230000
DTSTAMP:20260423T111654
CREATED:20250305T213942Z
LAST-MODIFIED:20260309T204739Z
UID:10008287-1779825600-1779836400@hennessysboston.com
SUMMARY:Gina Garda 8-11pm
DESCRIPTION:
URL:https://hennessysboston.com/event/gina-garda-8-11pm/2026-05-26/
LOCATION:Hennessy’s\, 25 Union St.\, Boston\, MA\, 02108\, United States
GEO:42.3610028;-71.0567294
X-APPLE-STRUCTURED-LOCATION;VALUE=URI;X-ADDRESS=Hennessy’s 25 Union St. Boston MA 02108 United States;X-APPLE-RADIUS=500;X-TITLE=25 Union St.:geo:-71.0567294,42.3610028
END:VEVENT
BEGIN:VEVENT
DTSTART;TZID=America/New_York:20260602T200000
DTEND;TZID=America/New_York:20260602T230000
DTSTAMP:20260423T111654
CREATED:20250305T213942Z
LAST-MODIFIED:20260309T204739Z
UID:10008288-1780430400-1780441200@hennessysboston.com
SUMMARY:Gina Garda 8-11pm
DESCRIPTION:
URL:https://hennessysboston.com/event/gina-garda-8-11pm/2026-06-02/
LOCATION:Hennessy’s\, 25 Union St.\, Boston\, MA\, 02108\, United States
GEO:42.3610028;-71.0567294
X-APPLE-STRUCTURED-LOCATION;VALUE=URI;X-ADDRESS=Hennessy’s 25 Union St. Boston MA 02108 United States;X-APPLE-RADIUS=500;X-TITLE=25 Union St.:geo:-71.0567294,42.3610028
END:VEVENT
BEGIN:VEVENT
DTSTART;TZID=America/New_York:20260609T200000
DTEND;TZID=America/New_York:20260609T230000
DTSTAMP:20260423T111654
CREATED:20250305T213942Z
LAST-MODIFIED:20260309T204739Z
UID:10008289-1781035200-1781046000@hennessysboston.com
SUMMARY:Gina Garda 8-11pm
DESCRIPTION:
URL:https://hennessysboston.com/event/gina-garda-8-11pm/2026-06-09/
LOCATION:Hennessy’s\, 25 Union St.\, Boston\, MA\, 02108\, United States
GEO:42.3610028;-71.0567294
X-APPLE-STRUCTURED-LOCATION;VALUE=URI;X-ADDRESS=Hennessy’s 25 Union St. Boston MA 02108 United States;X-APPLE-RADIUS=500;X-TITLE=25 Union St.:geo:-71.0567294,42.3610028
END:VEVENT
BEGIN:VEVENT
DTSTART;TZID=America/New_York:20260616T200000
DTEND;TZID=America/New_York:20260616T230000
DTSTAMP:20260423T111654
CREATED:20250305T213942Z
LAST-MODIFIED:20260309T204739Z
UID:10008290-1781640000-1781650800@hennessysboston.com
SUMMARY:Gina Garda 8-11pm
DESCRIPTION:
URL:https://hennessysboston.com/event/gina-garda-8-11pm/2026-06-16/
LOCATION:Hennessy’s\, 25 Union St.\, Boston\, MA\, 02108\, United States
GEO:42.3610028;-71.0567294
X-APPLE-STRUCTURED-LOCATION;VALUE=URI;X-ADDRESS=Hennessy’s 25 Union St. Boston MA 02108 United States;X-APPLE-RADIUS=500;X-TITLE=25 Union St.:geo:-71.0567294,42.3610028
END:VEVENT
BEGIN:VEVENT
DTSTART;TZID=America/New_York:20260623T200000
DTEND;TZID=America/New_York:20260623T230000
DTSTAMP:20260423T111654
CREATED:20250305T213942Z
LAST-MODIFIED:20260309T204739Z
UID:10008291-1782244800-1782255600@hennessysboston.com
SUMMARY:Gina Garda 8-11pm
DESCRIPTION:
URL:https://hennessysboston.com/event/gina-garda-8-11pm/2026-06-23/
LOCATION:Hennessy’s\, 25 Union St.\, Boston\, MA\, 02108\, United States
GEO:42.3610028;-71.0567294
X-APPLE-STRUCTURED-LOCATION;VALUE=URI;X-ADDRESS=Hennessy’s 25 Union St. Boston MA 02108 United States;X-APPLE-RADIUS=500;X-TITLE=25 Union St.:geo:-71.0567294,42.3610028
END:VEVENT
BEGIN:VEVENT
DTSTART;TZID=America/New_York:20260630T200000
DTEND;TZID=America/New_York:20260630T230000
DTSTAMP:20260423T111654
CREATED:20250305T213942Z
LAST-MODIFIED:20260309T204739Z
UID:10008292-1782849600-1782860400@hennessysboston.com
SUMMARY:Gina Garda 8-11pm
DESCRIPTION:
URL:https://hennessysboston.com/event/gina-garda-8-11pm/2026-06-30/
LOCATION:Hennessy’s\, 25 Union St.\, Boston\, MA\, 02108\, United States
GEO:42.3610028;-71.0567294
X-APPLE-STRUCTURED-LOCATION;VALUE=URI;X-ADDRESS=Hennessy’s 25 Union St. Boston MA 02108 United States;X-APPLE-RADIUS=500;X-TITLE=25 Union St.:geo:-71.0567294,42.3610028
END:VEVENT
BEGIN:VEVENT
DTSTART;TZID=America/New_York:20260707T200000
DTEND;TZID=America/New_York:20260707T230000
DTSTAMP:20260423T111654
CREATED:20250305T213942Z
LAST-MODIFIED:20260309T204739Z
UID:10008293-1783454400-1783465200@hennessysboston.com
SUMMARY:Gina Garda 8-11pm
DESCRIPTION:
URL:https://hennessysboston.com/event/gina-garda-8-11pm/2026-07-07/
LOCATION:Hennessy’s\, 25 Union St.\, Boston\, MA\, 02108\, United States
GEO:42.3610028;-71.0567294
X-APPLE-STRUCTURED-LOCATION;VALUE=URI;X-ADDRESS=Hennessy’s 25 Union St. Boston MA 02108 United States;X-APPLE-RADIUS=500;X-TITLE=25 Union St.:geo:-71.0567294,42.3610028
END:VEVENT
BEGIN:VEVENT
DTSTART;TZID=America/New_York:20260714T200000
DTEND;TZID=America/New_York:20260714T230000
DTSTAMP:20260423T111654
CREATED:20250305T213942Z
LAST-MODIFIED:20260309T204739Z
UID:10008294-1784059200-1784070000@hennessysboston.com
SUMMARY:Gina Garda 8-11pm
DESCRIPTION:
URL:https://hennessysboston.com/event/gina-garda-8-11pm/2026-07-14/
LOCATION:Hennessy’s\, 25 Union St.\, Boston\, MA\, 02108\, United States
GEO:42.3610028;-71.0567294
X-APPLE-STRUCTURED-LOCATION;VALUE=URI;X-ADDRESS=Hennessy’s 25 Union St. Boston MA 02108 United States;X-APPLE-RADIUS=500;X-TITLE=25 Union St.:geo:-71.0567294,42.3610028
END:VEVENT
BEGIN:VEVENT
DTSTART;TZID=America/New_York:20260721T200000
DTEND;TZID=America/New_York:20260721T230000
DTSTAMP:20260423T111654
CREATED:20250305T213942Z
LAST-MODIFIED:20260309T204739Z
UID:10008295-1784664000-1784674800@hennessysboston.com
SUMMARY:Gina Garda 8-11pm
DESCRIPTION:
URL:https://hennessysboston.com/event/gina-garda-8-11pm/2026-07-21/
LOCATION:Hennessy’s\, 25 Union St.\, Boston\, MA\, 02108\, United States
GEO:42.3610028;-71.0567294
X-APPLE-STRUCTURED-LOCATION;VALUE=URI;X-ADDRESS=Hennessy’s 25 Union St. Boston MA 02108 United States;X-APPLE-RADIUS=500;X-TITLE=25 Union St.:geo:-71.0567294,42.3610028
END:VEVENT
BEGIN:VEVENT
DTSTART;TZID=America/New_York:20260728T200000
DTEND;TZID=America/New_York:20260728T230000
DTSTAMP:20260423T111654
CREATED:20250305T213942Z
LAST-MODIFIED:20260309T204739Z
UID:10008296-1785268800-1785279600@hennessysboston.com
SUMMARY:Gina Garda 8-11pm
DESCRIPTION:
URL:https://hennessysboston.com/event/gina-garda-8-11pm/2026-07-28/
LOCATION:Hennessy’s\, 25 Union St.\, Boston\, MA\, 02108\, United States
GEO:42.3610028;-71.0567294
X-APPLE-STRUCTURED-LOCATION;VALUE=URI;X-ADDRESS=Hennessy’s 25 Union St. Boston MA 02108 United States;X-APPLE-RADIUS=500;X-TITLE=25 Union St.:geo:-71.0567294,42.3610028
END:VEVENT
BEGIN:VEVENT
DTSTART;TZID=America/New_York:20260804T200000
DTEND;TZID=America/New_York:20260804T230000
DTSTAMP:20260423T111654
CREATED:20250305T213942Z
LAST-MODIFIED:20260309T204739Z
UID:10008297-1785873600-1785884400@hennessysboston.com
SUMMARY:Gina Garda 8-11pm
DESCRIPTION:
URL:https://hennessysboston.com/event/gina-garda-8-11pm/2026-08-04/
LOCATION:Hennessy’s\, 25 Union St.\, Boston\, MA\, 02108\, United States
GEO:42.3610028;-71.0567294
X-APPLE-STRUCTURED-LOCATION;VALUE=URI;X-ADDRESS=Hennessy’s 25 Union St. Boston MA 02108 United States;X-APPLE-RADIUS=500;X-TITLE=25 Union St.:geo:-71.0567294,42.3610028
END:VEVENT
BEGIN:VEVENT
DTSTART;TZID=America/New_York:20260811T200000
DTEND;TZID=America/New_York:20260811T230000
DTSTAMP:20260423T111654
CREATED:20250305T213942Z
LAST-MODIFIED:20260309T204739Z
UID:10008298-1786478400-1786489200@hennessysboston.com
SUMMARY:Gina Garda 8-11pm
DESCRIPTION:
URL:https://hennessysboston.com/event/gina-garda-8-11pm/2026-08-11/
LOCATION:Hennessy’s\, 25 Union St.\, Boston\, MA\, 02108\, United States
GEO:42.3610028;-71.0567294
X-APPLE-STRUCTURED-LOCATION;VALUE=URI;X-ADDRESS=Hennessy’s 25 Union St. Boston MA 02108 United States;X-APPLE-RADIUS=500;X-TITLE=25 Union St.:geo:-71.0567294,42.3610028
END:VEVENT
BEGIN:VEVENT
DTSTART;TZID=America/New_York:20260818T200000
DTEND;TZID=America/New_York:20260818T230000
DTSTAMP:20260423T111654
CREATED:20250305T213942Z
LAST-MODIFIED:20260309T204739Z
UID:10008299-1787083200-1787094000@hennessysboston.com
SUMMARY:Gina Garda 8-11pm
DESCRIPTION:
URL:https://hennessysboston.com/event/gina-garda-8-11pm/2026-08-18/
LOCATION:Hennessy’s\, 25 Union St.\, Boston\, MA\, 02108\, United States
GEO:42.3610028;-71.0567294
X-APPLE-STRUCTURED-LOCATION;VALUE=URI;X-ADDRESS=Hennessy’s 25 Union St. Boston MA 02108 United States;X-APPLE-RADIUS=500;X-TITLE=25 Union St.:geo:-71.0567294,42.3610028
END:VEVENT
BEGIN:VEVENT
DTSTART;TZID=America/New_York:20260825T200000
DTEND;TZID=America/New_York:20260825T230000
DTSTAMP:20260423T111654
CREATED:20250305T213942Z
LAST-MODIFIED:20260309T204739Z
UID:10008300-1787688000-1787698800@hennessysboston.com
SUMMARY:Gina Garda 8-11pm
DESCRIPTION:
URL:https://hennessysboston.com/event/gina-garda-8-11pm/2026-08-25/
LOCATION:Hennessy’s\, 25 Union St.\, Boston\, MA\, 02108\, United States
GEO:42.3610028;-71.0567294
X-APPLE-STRUCTURED-LOCATION;VALUE=URI;X-ADDRESS=Hennessy’s 25 Union St. Boston MA 02108 United States;X-APPLE-RADIUS=500;X-TITLE=25 Union St.:geo:-71.0567294,42.3610028
END:VEVENT
BEGIN:VEVENT
DTSTART;TZID=America/New_York:20260901T200000
DTEND;TZID=America/New_York:20260901T230000
DTSTAMP:20260423T111654
CREATED:20250305T213942Z
LAST-MODIFIED:20260309T204739Z
UID:10008301-1788292800-1788303600@hennessysboston.com
SUMMARY:Gina Garda 8-11pm
DESCRIPTION:
URL:https://hennessysboston.com/event/gina-garda-8-11pm/2026-09-01/
LOCATION:Hennessy’s\, 25 Union St.\, Boston\, MA\, 02108\, United States
GEO:42.3610028;-71.0567294
X-APPLE-STRUCTURED-LOCATION;VALUE=URI;X-ADDRESS=Hennessy’s 25 Union St. Boston MA 02108 United States;X-APPLE-RADIUS=500;X-TITLE=25 Union St.:geo:-71.0567294,42.3610028
END:VEVENT
BEGIN:VEVENT
DTSTART;TZID=America/New_York:20260908T200000
DTEND;TZID=America/New_York:20260908T230000
DTSTAMP:20260423T111654
CREATED:20250305T213942Z
LAST-MODIFIED:20260309T204739Z
UID:10008302-1788897600-1788908400@hennessysboston.com
SUMMARY:Gina Garda 8-11pm
DESCRIPTION:
URL:https://hennessysboston.com/event/gina-garda-8-11pm/2026-09-08/
LOCATION:Hennessy’s\, 25 Union St.\, Boston\, MA\, 02108\, United States
GEO:42.3610028;-71.0567294
X-APPLE-STRUCTURED-LOCATION;VALUE=URI;X-ADDRESS=Hennessy’s 25 Union St. Boston MA 02108 United States;X-APPLE-RADIUS=500;X-TITLE=25 Union St.:geo:-71.0567294,42.3610028
END:VEVENT
BEGIN:VEVENT
DTSTART;TZID=America/New_York:20260915T200000
DTEND;TZID=America/New_York:20260915T230000
DTSTAMP:20260423T111654
CREATED:20250305T213942Z
LAST-MODIFIED:20260309T204739Z
UID:10008303-1789502400-1789513200@hennessysboston.com
SUMMARY:Gina Garda 8-11pm
DESCRIPTION:
URL:https://hennessysboston.com/event/gina-garda-8-11pm/2026-09-15/
LOCATION:Hennessy’s\, 25 Union St.\, Boston\, MA\, 02108\, United States
GEO:42.3610028;-71.0567294
X-APPLE-STRUCTURED-LOCATION;VALUE=URI;X-ADDRESS=Hennessy’s 25 Union St. Boston MA 02108 United States;X-APPLE-RADIUS=500;X-TITLE=25 Union St.:geo:-71.0567294,42.3610028
END:VEVENT
BEGIN:VEVENT
DTSTART;TZID=America/New_York:20260922T200000
DTEND;TZID=America/New_York:20260922T230000
DTSTAMP:20260423T111654
CREATED:20250305T213942Z
LAST-MODIFIED:20260309T204739Z
UID:10008304-1790107200-1790118000@hennessysboston.com
SUMMARY:Gina Garda 8-11pm
DESCRIPTION:
URL:https://hennessysboston.com/event/gina-garda-8-11pm/2026-09-22/
LOCATION:Hennessy’s\, 25 Union St.\, Boston\, MA\, 02108\, United States
GEO:42.3610028;-71.0567294
X-APPLE-STRUCTURED-LOCATION;VALUE=URI;X-ADDRESS=Hennessy’s 25 Union St. Boston MA 02108 United States;X-APPLE-RADIUS=500;X-TITLE=25 Union St.:geo:-71.0567294,42.3610028
END:VEVENT
BEGIN:VEVENT
DTSTART;TZID=America/New_York:20260929T200000
DTEND;TZID=America/New_York:20260929T230000
DTSTAMP:20260423T111654
CREATED:20250305T213942Z
LAST-MODIFIED:20260309T204739Z
UID:10008305-1790712000-1790722800@hennessysboston.com
SUMMARY:Gina Garda 8-11pm
DESCRIPTION:
URL:https://hennessysboston.com/event/gina-garda-8-11pm/2026-09-29/
LOCATION:Hennessy’s\, 25 Union St.\, Boston\, MA\, 02108\, United States
GEO:42.3610028;-71.0567294
X-APPLE-STRUCTURED-LOCATION;VALUE=URI;X-ADDRESS=Hennessy’s 25 Union St. Boston MA 02108 United States;X-APPLE-RADIUS=500;X-TITLE=25 Union St.:geo:-71.0567294,42.3610028
END:VEVENT
BEGIN:VEVENT
DTSTART;TZID=America/New_York:20261006T200000
DTEND;TZID=America/New_York:20261006T230000
DTSTAMP:20260423T111654
CREATED:20250305T213942Z
LAST-MODIFIED:20260309T204739Z
UID:10008306-1791316800-1791327600@hennessysboston.com
SUMMARY:Gina Garda 8-11pm
DESCRIPTION:
URL:https://hennessysboston.com/event/gina-garda-8-11pm/2026-10-06/
LOCATION:Hennessy’s\, 25 Union St.\, Boston\, MA\, 02108\, United States
GEO:42.3610028;-71.0567294
X-APPLE-STRUCTURED-LOCATION;VALUE=URI;X-ADDRESS=Hennessy’s 25 Union St. Boston MA 02108 United States;X-APPLE-RADIUS=500;X-TITLE=25 Union St.:geo:-71.0567294,42.3610028
END:VEVENT
BEGIN:VEVENT
DTSTART;TZID=America/New_York:20261013T200000
DTEND;TZID=America/New_York:20261013T230000
DTSTAMP:20260423T111654
CREATED:20250305T213942Z
LAST-MODIFIED:20260309T204739Z
UID:10008307-1791921600-1791932400@hennessysboston.com
SUMMARY:Gina Garda 8-11pm
DESCRIPTION:
URL:https://hennessysboston.com/event/gina-garda-8-11pm/2026-10-13/
LOCATION:Hennessy’s\, 25 Union St.\, Boston\, MA\, 02108\, United States
GEO:42.3610028;-71.0567294
X-APPLE-STRUCTURED-LOCATION;VALUE=URI;X-ADDRESS=Hennessy’s 25 Union St. Boston MA 02108 United States;X-APPLE-RADIUS=500;X-TITLE=25 Union St.:geo:-71.0567294,42.3610028
END:VEVENT
BEGIN:VEVENT
DTSTART;TZID=America/New_York:20261020T200000
DTEND;TZID=America/New_York:20261020T230000
DTSTAMP:20260423T111654
CREATED:20250305T213942Z
LAST-MODIFIED:20260309T204739Z
UID:10008308-1792526400-1792537200@hennessysboston.com
SUMMARY:Gina Garda 8-11pm
DESCRIPTION:
URL:https://hennessysboston.com/event/gina-garda-8-11pm/2026-10-20/
LOCATION:Hennessy’s\, 25 Union St.\, Boston\, MA\, 02108\, United States
GEO:42.3610028;-71.0567294
X-APPLE-STRUCTURED-LOCATION;VALUE=URI;X-ADDRESS=Hennessy’s 25 Union St. Boston MA 02108 United States;X-APPLE-RADIUS=500;X-TITLE=25 Union St.:geo:-71.0567294,42.3610028
END:VEVENT
BEGIN:VEVENT
DTSTART;TZID=America/New_York:20261027T200000
DTEND;TZID=America/New_York:20261027T230000
DTSTAMP:20260423T111654
CREATED:20250305T213942Z
LAST-MODIFIED:20260309T204739Z
UID:10008309-1793131200-1793142000@hennessysboston.com
SUMMARY:Gina Garda 8-11pm
DESCRIPTION:
URL:https://hennessysboston.com/event/gina-garda-8-11pm/2026-10-27/
LOCATION:Hennessy’s\, 25 Union St.\, Boston\, MA\, 02108\, United States
GEO:42.3610028;-71.0567294
X-APPLE-STRUCTURED-LOCATION;VALUE=URI;X-ADDRESS=Hennessy’s 25 Union St. Boston MA 02108 United States;X-APPLE-RADIUS=500;X-TITLE=25 Union St.:geo:-71.0567294,42.3610028
END:VEVENT
BEGIN:VEVENT
DTSTART;TZID=America/New_York:20261103T200000
DTEND;TZID=America/New_York:20261103T230000
DTSTAMP:20260423T111654
CREATED:20250305T213942Z
LAST-MODIFIED:20260309T204739Z
UID:10008310-1793736000-1793746800@hennessysboston.com
SUMMARY:Gina Garda 8-11pm
DESCRIPTION:
URL:https://hennessysboston.com/event/gina-garda-8-11pm/2026-11-03/
LOCATION:Hennessy’s\, 25 Union St.\, Boston\, MA\, 02108\, United States
GEO:42.3610028;-71.0567294
X-APPLE-STRUCTURED-LOCATION;VALUE=URI;X-ADDRESS=Hennessy’s 25 Union St. Boston MA 02108 United States;X-APPLE-RADIUS=500;X-TITLE=25 Union St.:geo:-71.0567294,42.3610028
END:VEVENT
BEGIN:VEVENT
DTSTART;TZID=America/New_York:20261110T200000
DTEND;TZID=America/New_York:20261110T230000
DTSTAMP:20260423T111654
CREATED:20250305T213942Z
LAST-MODIFIED:20260309T204739Z
UID:10008311-1794340800-1794351600@hennessysboston.com
SUMMARY:Gina Garda 8-11pm
DESCRIPTION:
URL:https://hennessysboston.com/event/gina-garda-8-11pm/2026-11-10/
LOCATION:Hennessy’s\, 25 Union St.\, Boston\, MA\, 02108\, United States
GEO:42.3610028;-71.0567294
X-APPLE-STRUCTURED-LOCATION;VALUE=URI;X-ADDRESS=Hennessy’s 25 Union St. Boston MA 02108 United States;X-APPLE-RADIUS=500;X-TITLE=25 Union St.:geo:-71.0567294,42.3610028
END:VEVENT
BEGIN:VEVENT
DTSTART;TZID=America/New_York:20261117T200000
DTEND;TZID=America/New_York:20261117T230000
DTSTAMP:20260423T111654
CREATED:20250305T213942Z
LAST-MODIFIED:20260309T204739Z
UID:10008312-1794945600-1794956400@hennessysboston.com
SUMMARY:Gina Garda 8-11pm
DESCRIPTION:
URL:https://hennessysboston.com/event/gina-garda-8-11pm/2026-11-17/
LOCATION:Hennessy’s\, 25 Union St.\, Boston\, MA\, 02108\, United States
GEO:42.3610028;-71.0567294
X-APPLE-STRUCTURED-LOCATION;VALUE=URI;X-ADDRESS=Hennessy’s 25 Union St. Boston MA 02108 United States;X-APPLE-RADIUS=500;X-TITLE=25 Union St.:geo:-71.0567294,42.3610028
END:VEVENT
END:VCALENDAR