BEGIN:VCALENDAR
VERSION:2.0
PRODID:-//Hennessy&#039;s of Boston - ECPv6.15.20//NONSGML v1.0//EN
CALSCALE:GREGORIAN
METHOD:PUBLISH
X-WR-CALNAME:Hennessy&#039;s of Boston
X-ORIGINAL-URL:https://hennessysboston.com
X-WR-CALDESC:Events for Hennessy&#039;s of Boston
REFRESH-INTERVAL;VALUE=DURATION:PT1H
X-Robots-Tag:noindex
X-PUBLISHED-TTL:PT1H
BEGIN:VTIMEZONE
TZID:America/New_York
BEGIN:DAYLIGHT
TZOFFSETFROM:-0500
TZOFFSETTO:-0400
TZNAME:EDT
DTSTART:20250309T070000
END:DAYLIGHT
BEGIN:STANDARD
TZOFFSETFROM:-0400
TZOFFSETTO:-0500
TZNAME:EST
DTSTART:20251102T060000
END:STANDARD
BEGIN:DAYLIGHT
TZOFFSETFROM:-0500
TZOFFSETTO:-0400
TZNAME:EDT
DTSTART:20260308T070000
END:DAYLIGHT
BEGIN:STANDARD
TZOFFSETFROM:-0400
TZOFFSETTO:-0500
TZNAME:EST
DTSTART:20261101T060000
END:STANDARD
BEGIN:DAYLIGHT
TZOFFSETFROM:-0500
TZOFFSETTO:-0400
TZNAME:EDT
DTSTART:20270314T070000
END:DAYLIGHT
BEGIN:STANDARD
TZOFFSETFROM:-0400
TZOFFSETTO:-0500
TZNAME:EST
DTSTART:20271107T060000
END:STANDARD
END:VTIMEZONE
BEGIN:VEVENT
DTSTART;TZID=America/New_York:20260602T200000
DTEND;TZID=America/New_York:20260602T230000
DTSTAMP:20260423T160651
CREATED:20250305T213942Z
LAST-MODIFIED:20260309T204739Z
UID:10008288-1780430400-1780441200@hennessysboston.com
SUMMARY:Gina Garda 8-11pm
DESCRIPTION:
URL:https://hennessysboston.com/event/gina-garda-8-11pm/2026-06-02/
LOCATION:Hennessy’s\, 25 Union St.\, Boston\, MA\, 02108\, United States
GEO:42.3610028;-71.0567294
X-APPLE-STRUCTURED-LOCATION;VALUE=URI;X-ADDRESS=Hennessy’s 25 Union St. Boston MA 02108 United States;X-APPLE-RADIUS=500;X-TITLE=25 Union St.:geo:-71.0567294,42.3610028
END:VEVENT
BEGIN:VEVENT
DTSTART;TZID=America/New_York:20260607T210000
DTEND;TZID=America/New_York:20260608T010000
DTSTAMP:20260423T160651
CREATED:20250305T213647Z
LAST-MODIFIED:20260309T204458Z
UID:10007768-1780866000-1780880400@hennessysboston.com
SUMMARY:DJ Todd Karaoke
DESCRIPTION:
URL:https://hennessysboston.com/event/maverick-karaoke/2026-06-07/
LOCATION:Hennessy’s\, 25 Union St.\, Boston\, MA\, 02108\, United States
GEO:42.3610028;-71.0567294
X-APPLE-STRUCTURED-LOCATION;VALUE=URI;X-ADDRESS=Hennessy’s 25 Union St. Boston MA 02108 United States;X-APPLE-RADIUS=500;X-TITLE=25 Union St.:geo:-71.0567294,42.3610028
END:VEVENT
BEGIN:VEVENT
DTSTART;TZID=America/New_York:20260608T200000
DTEND;TZID=America/New_York:20260608T230000
DTSTAMP:20260423T160651
CREATED:20250305T213842Z
LAST-MODIFIED:20250305T213842Z
UID:10008028-1780948800-1780959600@hennessysboston.com
SUMMARY:Joe Carson 8-11pm
DESCRIPTION:
URL:https://hennessysboston.com/event/joe-carson-8-11pm/2026-06-08/
LOCATION:Hennessy’s\, 25 Union St.\, Boston\, MA\, 02108\, United States
GEO:42.3610028;-71.0567294
X-APPLE-STRUCTURED-LOCATION;VALUE=URI;X-ADDRESS=Hennessy’s 25 Union St. Boston MA 02108 United States;X-APPLE-RADIUS=500;X-TITLE=25 Union St.:geo:-71.0567294,42.3610028
END:VEVENT
BEGIN:VEVENT
DTSTART;TZID=America/New_York:20260609T200000
DTEND;TZID=America/New_York:20260609T230000
DTSTAMP:20260423T160651
CREATED:20250305T213942Z
LAST-MODIFIED:20260309T204739Z
UID:10008289-1781035200-1781046000@hennessysboston.com
SUMMARY:Gina Garda 8-11pm
DESCRIPTION:
URL:https://hennessysboston.com/event/gina-garda-8-11pm/2026-06-09/
LOCATION:Hennessy’s\, 25 Union St.\, Boston\, MA\, 02108\, United States
GEO:42.3610028;-71.0567294
X-APPLE-STRUCTURED-LOCATION;VALUE=URI;X-ADDRESS=Hennessy’s 25 Union St. Boston MA 02108 United States;X-APPLE-RADIUS=500;X-TITLE=25 Union St.:geo:-71.0567294,42.3610028
END:VEVENT
BEGIN:VEVENT
DTSTART;TZID=America/New_York:20260614T210000
DTEND;TZID=America/New_York:20260615T010000
DTSTAMP:20260423T160651
CREATED:20250305T213647Z
LAST-MODIFIED:20260309T204458Z
UID:10007769-1781470800-1781485200@hennessysboston.com
SUMMARY:DJ Todd Karaoke
DESCRIPTION:
URL:https://hennessysboston.com/event/maverick-karaoke/2026-06-14/
LOCATION:Hennessy’s\, 25 Union St.\, Boston\, MA\, 02108\, United States
GEO:42.3610028;-71.0567294
X-APPLE-STRUCTURED-LOCATION;VALUE=URI;X-ADDRESS=Hennessy’s 25 Union St. Boston MA 02108 United States;X-APPLE-RADIUS=500;X-TITLE=25 Union St.:geo:-71.0567294,42.3610028
END:VEVENT
BEGIN:VEVENT
DTSTART;TZID=America/New_York:20260615T200000
DTEND;TZID=America/New_York:20260615T230000
DTSTAMP:20260423T160651
CREATED:20250305T213842Z
LAST-MODIFIED:20250305T213842Z
UID:10008029-1781553600-1781564400@hennessysboston.com
SUMMARY:Joe Carson 8-11pm
DESCRIPTION:
URL:https://hennessysboston.com/event/joe-carson-8-11pm/2026-06-15/
LOCATION:Hennessy’s\, 25 Union St.\, Boston\, MA\, 02108\, United States
GEO:42.3610028;-71.0567294
X-APPLE-STRUCTURED-LOCATION;VALUE=URI;X-ADDRESS=Hennessy’s 25 Union St. Boston MA 02108 United States;X-APPLE-RADIUS=500;X-TITLE=25 Union St.:geo:-71.0567294,42.3610028
END:VEVENT
BEGIN:VEVENT
DTSTART;TZID=America/New_York:20260616T200000
DTEND;TZID=America/New_York:20260616T230000
DTSTAMP:20260423T160651
CREATED:20250305T213942Z
LAST-MODIFIED:20260309T204739Z
UID:10008290-1781640000-1781650800@hennessysboston.com
SUMMARY:Gina Garda 8-11pm
DESCRIPTION:
URL:https://hennessysboston.com/event/gina-garda-8-11pm/2026-06-16/
LOCATION:Hennessy’s\, 25 Union St.\, Boston\, MA\, 02108\, United States
GEO:42.3610028;-71.0567294
X-APPLE-STRUCTURED-LOCATION;VALUE=URI;X-ADDRESS=Hennessy’s 25 Union St. Boston MA 02108 United States;X-APPLE-RADIUS=500;X-TITLE=25 Union St.:geo:-71.0567294,42.3610028
END:VEVENT
BEGIN:VEVENT
DTSTART;TZID=America/New_York:20260621T210000
DTEND;TZID=America/New_York:20260622T010000
DTSTAMP:20260423T160651
CREATED:20250305T213647Z
LAST-MODIFIED:20260309T204458Z
UID:10007770-1782075600-1782090000@hennessysboston.com
SUMMARY:DJ Todd Karaoke
DESCRIPTION:
URL:https://hennessysboston.com/event/maverick-karaoke/2026-06-21/
LOCATION:Hennessy’s\, 25 Union St.\, Boston\, MA\, 02108\, United States
GEO:42.3610028;-71.0567294
X-APPLE-STRUCTURED-LOCATION;VALUE=URI;X-ADDRESS=Hennessy’s 25 Union St. Boston MA 02108 United States;X-APPLE-RADIUS=500;X-TITLE=25 Union St.:geo:-71.0567294,42.3610028
END:VEVENT
BEGIN:VEVENT
DTSTART;TZID=America/New_York:20260622T200000
DTEND;TZID=America/New_York:20260622T230000
DTSTAMP:20260423T160651
CREATED:20250305T213842Z
LAST-MODIFIED:20250305T213842Z
UID:10008030-1782158400-1782169200@hennessysboston.com
SUMMARY:Joe Carson 8-11pm
DESCRIPTION:
URL:https://hennessysboston.com/event/joe-carson-8-11pm/2026-06-22/
LOCATION:Hennessy’s\, 25 Union St.\, Boston\, MA\, 02108\, United States
GEO:42.3610028;-71.0567294
X-APPLE-STRUCTURED-LOCATION;VALUE=URI;X-ADDRESS=Hennessy’s 25 Union St. Boston MA 02108 United States;X-APPLE-RADIUS=500;X-TITLE=25 Union St.:geo:-71.0567294,42.3610028
END:VEVENT
BEGIN:VEVENT
DTSTART;TZID=America/New_York:20260623T200000
DTEND;TZID=America/New_York:20260623T230000
DTSTAMP:20260423T160651
CREATED:20250305T213942Z
LAST-MODIFIED:20260309T204739Z
UID:10008291-1782244800-1782255600@hennessysboston.com
SUMMARY:Gina Garda 8-11pm
DESCRIPTION:
URL:https://hennessysboston.com/event/gina-garda-8-11pm/2026-06-23/
LOCATION:Hennessy’s\, 25 Union St.\, Boston\, MA\, 02108\, United States
GEO:42.3610028;-71.0567294
X-APPLE-STRUCTURED-LOCATION;VALUE=URI;X-ADDRESS=Hennessy’s 25 Union St. Boston MA 02108 United States;X-APPLE-RADIUS=500;X-TITLE=25 Union St.:geo:-71.0567294,42.3610028
END:VEVENT
BEGIN:VEVENT
DTSTART;TZID=America/New_York:20260628T210000
DTEND;TZID=America/New_York:20260629T010000
DTSTAMP:20260423T160651
CREATED:20250305T213647Z
LAST-MODIFIED:20260309T204458Z
UID:10007771-1782680400-1782694800@hennessysboston.com
SUMMARY:DJ Todd Karaoke
DESCRIPTION:
URL:https://hennessysboston.com/event/maverick-karaoke/2026-06-28/
LOCATION:Hennessy’s\, 25 Union St.\, Boston\, MA\, 02108\, United States
GEO:42.3610028;-71.0567294
X-APPLE-STRUCTURED-LOCATION;VALUE=URI;X-ADDRESS=Hennessy’s 25 Union St. Boston MA 02108 United States;X-APPLE-RADIUS=500;X-TITLE=25 Union St.:geo:-71.0567294,42.3610028
END:VEVENT
BEGIN:VEVENT
DTSTART;TZID=America/New_York:20260629T200000
DTEND;TZID=America/New_York:20260629T230000
DTSTAMP:20260423T160651
CREATED:20250305T213842Z
LAST-MODIFIED:20250305T213842Z
UID:10008031-1782763200-1782774000@hennessysboston.com
SUMMARY:Joe Carson 8-11pm
DESCRIPTION:
URL:https://hennessysboston.com/event/joe-carson-8-11pm/2026-06-29/
LOCATION:Hennessy’s\, 25 Union St.\, Boston\, MA\, 02108\, United States
GEO:42.3610028;-71.0567294
X-APPLE-STRUCTURED-LOCATION;VALUE=URI;X-ADDRESS=Hennessy’s 25 Union St. Boston MA 02108 United States;X-APPLE-RADIUS=500;X-TITLE=25 Union St.:geo:-71.0567294,42.3610028
END:VEVENT
BEGIN:VEVENT
DTSTART;TZID=America/New_York:20260630T200000
DTEND;TZID=America/New_York:20260630T230000
DTSTAMP:20260423T160651
CREATED:20250305T213942Z
LAST-MODIFIED:20260309T204739Z
UID:10008292-1782849600-1782860400@hennessysboston.com
SUMMARY:Gina Garda 8-11pm
DESCRIPTION:
URL:https://hennessysboston.com/event/gina-garda-8-11pm/2026-06-30/
LOCATION:Hennessy’s\, 25 Union St.\, Boston\, MA\, 02108\, United States
GEO:42.3610028;-71.0567294
X-APPLE-STRUCTURED-LOCATION;VALUE=URI;X-ADDRESS=Hennessy’s 25 Union St. Boston MA 02108 United States;X-APPLE-RADIUS=500;X-TITLE=25 Union St.:geo:-71.0567294,42.3610028
END:VEVENT
BEGIN:VEVENT
DTSTART;TZID=America/New_York:20260705T210000
DTEND;TZID=America/New_York:20260706T010000
DTSTAMP:20260423T160651
CREATED:20250305T213647Z
LAST-MODIFIED:20260309T204458Z
UID:10007772-1783285200-1783299600@hennessysboston.com
SUMMARY:DJ Todd Karaoke
DESCRIPTION:
URL:https://hennessysboston.com/event/maverick-karaoke/2026-07-05/
LOCATION:Hennessy’s\, 25 Union St.\, Boston\, MA\, 02108\, United States
GEO:42.3610028;-71.0567294
X-APPLE-STRUCTURED-LOCATION;VALUE=URI;X-ADDRESS=Hennessy’s 25 Union St. Boston MA 02108 United States;X-APPLE-RADIUS=500;X-TITLE=25 Union St.:geo:-71.0567294,42.3610028
END:VEVENT
BEGIN:VEVENT
DTSTART;TZID=America/New_York:20260706T200000
DTEND;TZID=America/New_York:20260706T230000
DTSTAMP:20260423T160651
CREATED:20250305T213842Z
LAST-MODIFIED:20250305T213842Z
UID:10008032-1783368000-1783378800@hennessysboston.com
SUMMARY:Joe Carson 8-11pm
DESCRIPTION:
URL:https://hennessysboston.com/event/joe-carson-8-11pm/2026-07-06/
LOCATION:Hennessy’s\, 25 Union St.\, Boston\, MA\, 02108\, United States
GEO:42.3610028;-71.0567294
X-APPLE-STRUCTURED-LOCATION;VALUE=URI;X-ADDRESS=Hennessy’s 25 Union St. Boston MA 02108 United States;X-APPLE-RADIUS=500;X-TITLE=25 Union St.:geo:-71.0567294,42.3610028
END:VEVENT
BEGIN:VEVENT
DTSTART;TZID=America/New_York:20260707T200000
DTEND;TZID=America/New_York:20260707T230000
DTSTAMP:20260423T160651
CREATED:20250305T213942Z
LAST-MODIFIED:20260309T204739Z
UID:10008293-1783454400-1783465200@hennessysboston.com
SUMMARY:Gina Garda 8-11pm
DESCRIPTION:
URL:https://hennessysboston.com/event/gina-garda-8-11pm/2026-07-07/
LOCATION:Hennessy’s\, 25 Union St.\, Boston\, MA\, 02108\, United States
GEO:42.3610028;-71.0567294
X-APPLE-STRUCTURED-LOCATION;VALUE=URI;X-ADDRESS=Hennessy’s 25 Union St. Boston MA 02108 United States;X-APPLE-RADIUS=500;X-TITLE=25 Union St.:geo:-71.0567294,42.3610028
END:VEVENT
BEGIN:VEVENT
DTSTART;TZID=America/New_York:20260712T210000
DTEND;TZID=America/New_York:20260713T010000
DTSTAMP:20260423T160651
CREATED:20250305T213647Z
LAST-MODIFIED:20260309T204458Z
UID:10007773-1783890000-1783904400@hennessysboston.com
SUMMARY:DJ Todd Karaoke
DESCRIPTION:
URL:https://hennessysboston.com/event/maverick-karaoke/2026-07-12/
LOCATION:Hennessy’s\, 25 Union St.\, Boston\, MA\, 02108\, United States
GEO:42.3610028;-71.0567294
X-APPLE-STRUCTURED-LOCATION;VALUE=URI;X-ADDRESS=Hennessy’s 25 Union St. Boston MA 02108 United States;X-APPLE-RADIUS=500;X-TITLE=25 Union St.:geo:-71.0567294,42.3610028
END:VEVENT
BEGIN:VEVENT
DTSTART;TZID=America/New_York:20260713T200000
DTEND;TZID=America/New_York:20260713T230000
DTSTAMP:20260423T160651
CREATED:20250305T213842Z
LAST-MODIFIED:20250305T213842Z
UID:10008033-1783972800-1783983600@hennessysboston.com
SUMMARY:Joe Carson 8-11pm
DESCRIPTION:
URL:https://hennessysboston.com/event/joe-carson-8-11pm/2026-07-13/
LOCATION:Hennessy’s\, 25 Union St.\, Boston\, MA\, 02108\, United States
GEO:42.3610028;-71.0567294
X-APPLE-STRUCTURED-LOCATION;VALUE=URI;X-ADDRESS=Hennessy’s 25 Union St. Boston MA 02108 United States;X-APPLE-RADIUS=500;X-TITLE=25 Union St.:geo:-71.0567294,42.3610028
END:VEVENT
BEGIN:VEVENT
DTSTART;TZID=America/New_York:20260714T200000
DTEND;TZID=America/New_York:20260714T230000
DTSTAMP:20260423T160651
CREATED:20250305T213942Z
LAST-MODIFIED:20260309T204739Z
UID:10008294-1784059200-1784070000@hennessysboston.com
SUMMARY:Gina Garda 8-11pm
DESCRIPTION:
URL:https://hennessysboston.com/event/gina-garda-8-11pm/2026-07-14/
LOCATION:Hennessy’s\, 25 Union St.\, Boston\, MA\, 02108\, United States
GEO:42.3610028;-71.0567294
X-APPLE-STRUCTURED-LOCATION;VALUE=URI;X-ADDRESS=Hennessy’s 25 Union St. Boston MA 02108 United States;X-APPLE-RADIUS=500;X-TITLE=25 Union St.:geo:-71.0567294,42.3610028
END:VEVENT
BEGIN:VEVENT
DTSTART;TZID=America/New_York:20260719T210000
DTEND;TZID=America/New_York:20260720T010000
DTSTAMP:20260423T160651
CREATED:20250305T213647Z
LAST-MODIFIED:20260309T204458Z
UID:10007774-1784494800-1784509200@hennessysboston.com
SUMMARY:DJ Todd Karaoke
DESCRIPTION:
URL:https://hennessysboston.com/event/maverick-karaoke/2026-07-19/
LOCATION:Hennessy’s\, 25 Union St.\, Boston\, MA\, 02108\, United States
GEO:42.3610028;-71.0567294
X-APPLE-STRUCTURED-LOCATION;VALUE=URI;X-ADDRESS=Hennessy’s 25 Union St. Boston MA 02108 United States;X-APPLE-RADIUS=500;X-TITLE=25 Union St.:geo:-71.0567294,42.3610028
END:VEVENT
BEGIN:VEVENT
DTSTART;TZID=America/New_York:20260720T200000
DTEND;TZID=America/New_York:20260720T230000
DTSTAMP:20260423T160651
CREATED:20250305T213842Z
LAST-MODIFIED:20250305T213842Z
UID:10008034-1784577600-1784588400@hennessysboston.com
SUMMARY:Joe Carson 8-11pm
DESCRIPTION:
URL:https://hennessysboston.com/event/joe-carson-8-11pm/2026-07-20/
LOCATION:Hennessy’s\, 25 Union St.\, Boston\, MA\, 02108\, United States
GEO:42.3610028;-71.0567294
X-APPLE-STRUCTURED-LOCATION;VALUE=URI;X-ADDRESS=Hennessy’s 25 Union St. Boston MA 02108 United States;X-APPLE-RADIUS=500;X-TITLE=25 Union St.:geo:-71.0567294,42.3610028
END:VEVENT
BEGIN:VEVENT
DTSTART;TZID=America/New_York:20260721T200000
DTEND;TZID=America/New_York:20260721T230000
DTSTAMP:20260423T160651
CREATED:20250305T213942Z
LAST-MODIFIED:20260309T204739Z
UID:10008295-1784664000-1784674800@hennessysboston.com
SUMMARY:Gina Garda 8-11pm
DESCRIPTION:
URL:https://hennessysboston.com/event/gina-garda-8-11pm/2026-07-21/
LOCATION:Hennessy’s\, 25 Union St.\, Boston\, MA\, 02108\, United States
GEO:42.3610028;-71.0567294
X-APPLE-STRUCTURED-LOCATION;VALUE=URI;X-ADDRESS=Hennessy’s 25 Union St. Boston MA 02108 United States;X-APPLE-RADIUS=500;X-TITLE=25 Union St.:geo:-71.0567294,42.3610028
END:VEVENT
BEGIN:VEVENT
DTSTART;TZID=America/New_York:20260726T210000
DTEND;TZID=America/New_York:20260727T010000
DTSTAMP:20260423T160651
CREATED:20250305T213647Z
LAST-MODIFIED:20260309T204458Z
UID:10007775-1785099600-1785114000@hennessysboston.com
SUMMARY:DJ Todd Karaoke
DESCRIPTION:
URL:https://hennessysboston.com/event/maverick-karaoke/2026-07-26/
LOCATION:Hennessy’s\, 25 Union St.\, Boston\, MA\, 02108\, United States
GEO:42.3610028;-71.0567294
X-APPLE-STRUCTURED-LOCATION;VALUE=URI;X-ADDRESS=Hennessy’s 25 Union St. Boston MA 02108 United States;X-APPLE-RADIUS=500;X-TITLE=25 Union St.:geo:-71.0567294,42.3610028
END:VEVENT
BEGIN:VEVENT
DTSTART;TZID=America/New_York:20260727T200000
DTEND;TZID=America/New_York:20260727T230000
DTSTAMP:20260423T160651
CREATED:20250305T213842Z
LAST-MODIFIED:20250305T213842Z
UID:10008035-1785182400-1785193200@hennessysboston.com
SUMMARY:Joe Carson 8-11pm
DESCRIPTION:
URL:https://hennessysboston.com/event/joe-carson-8-11pm/2026-07-27/
LOCATION:Hennessy’s\, 25 Union St.\, Boston\, MA\, 02108\, United States
GEO:42.3610028;-71.0567294
X-APPLE-STRUCTURED-LOCATION;VALUE=URI;X-ADDRESS=Hennessy’s 25 Union St. Boston MA 02108 United States;X-APPLE-RADIUS=500;X-TITLE=25 Union St.:geo:-71.0567294,42.3610028
END:VEVENT
BEGIN:VEVENT
DTSTART;TZID=America/New_York:20260728T200000
DTEND;TZID=America/New_York:20260728T230000
DTSTAMP:20260423T160651
CREATED:20250305T213942Z
LAST-MODIFIED:20260309T204739Z
UID:10008296-1785268800-1785279600@hennessysboston.com
SUMMARY:Gina Garda 8-11pm
DESCRIPTION:
URL:https://hennessysboston.com/event/gina-garda-8-11pm/2026-07-28/
LOCATION:Hennessy’s\, 25 Union St.\, Boston\, MA\, 02108\, United States
GEO:42.3610028;-71.0567294
X-APPLE-STRUCTURED-LOCATION;VALUE=URI;X-ADDRESS=Hennessy’s 25 Union St. Boston MA 02108 United States;X-APPLE-RADIUS=500;X-TITLE=25 Union St.:geo:-71.0567294,42.3610028
END:VEVENT
BEGIN:VEVENT
DTSTART;TZID=America/New_York:20260802T210000
DTEND;TZID=America/New_York:20260803T010000
DTSTAMP:20260423T160651
CREATED:20250305T213647Z
LAST-MODIFIED:20260309T204458Z
UID:10007776-1785704400-1785718800@hennessysboston.com
SUMMARY:DJ Todd Karaoke
DESCRIPTION:
URL:https://hennessysboston.com/event/maverick-karaoke/2026-08-02/
LOCATION:Hennessy’s\, 25 Union St.\, Boston\, MA\, 02108\, United States
GEO:42.3610028;-71.0567294
X-APPLE-STRUCTURED-LOCATION;VALUE=URI;X-ADDRESS=Hennessy’s 25 Union St. Boston MA 02108 United States;X-APPLE-RADIUS=500;X-TITLE=25 Union St.:geo:-71.0567294,42.3610028
END:VEVENT
BEGIN:VEVENT
DTSTART;TZID=America/New_York:20260803T200000
DTEND;TZID=America/New_York:20260803T230000
DTSTAMP:20260423T160651
CREATED:20250305T213842Z
LAST-MODIFIED:20250305T213842Z
UID:10008036-1785787200-1785798000@hennessysboston.com
SUMMARY:Joe Carson 8-11pm
DESCRIPTION:
URL:https://hennessysboston.com/event/joe-carson-8-11pm/2026-08-03/
LOCATION:Hennessy’s\, 25 Union St.\, Boston\, MA\, 02108\, United States
GEO:42.3610028;-71.0567294
X-APPLE-STRUCTURED-LOCATION;VALUE=URI;X-ADDRESS=Hennessy’s 25 Union St. Boston MA 02108 United States;X-APPLE-RADIUS=500;X-TITLE=25 Union St.:geo:-71.0567294,42.3610028
END:VEVENT
BEGIN:VEVENT
DTSTART;TZID=America/New_York:20260804T200000
DTEND;TZID=America/New_York:20260804T230000
DTSTAMP:20260423T160651
CREATED:20250305T213942Z
LAST-MODIFIED:20260309T204739Z
UID:10008297-1785873600-1785884400@hennessysboston.com
SUMMARY:Gina Garda 8-11pm
DESCRIPTION:
URL:https://hennessysboston.com/event/gina-garda-8-11pm/2026-08-04/
LOCATION:Hennessy’s\, 25 Union St.\, Boston\, MA\, 02108\, United States
GEO:42.3610028;-71.0567294
X-APPLE-STRUCTURED-LOCATION;VALUE=URI;X-ADDRESS=Hennessy’s 25 Union St. Boston MA 02108 United States;X-APPLE-RADIUS=500;X-TITLE=25 Union St.:geo:-71.0567294,42.3610028
END:VEVENT
BEGIN:VEVENT
DTSTART;TZID=America/New_York:20260809T210000
DTEND;TZID=America/New_York:20260810T010000
DTSTAMP:20260423T160651
CREATED:20250305T213647Z
LAST-MODIFIED:20260309T204458Z
UID:10007777-1786309200-1786323600@hennessysboston.com
SUMMARY:DJ Todd Karaoke
DESCRIPTION:
URL:https://hennessysboston.com/event/maverick-karaoke/2026-08-09/
LOCATION:Hennessy’s\, 25 Union St.\, Boston\, MA\, 02108\, United States
GEO:42.3610028;-71.0567294
X-APPLE-STRUCTURED-LOCATION;VALUE=URI;X-ADDRESS=Hennessy’s 25 Union St. Boston MA 02108 United States;X-APPLE-RADIUS=500;X-TITLE=25 Union St.:geo:-71.0567294,42.3610028
END:VEVENT
BEGIN:VEVENT
DTSTART;TZID=America/New_York:20260810T200000
DTEND;TZID=America/New_York:20260810T230000
DTSTAMP:20260423T160651
CREATED:20250305T213842Z
LAST-MODIFIED:20250305T213842Z
UID:10008037-1786392000-1786402800@hennessysboston.com
SUMMARY:Joe Carson 8-11pm
DESCRIPTION:
URL:https://hennessysboston.com/event/joe-carson-8-11pm/2026-08-10/
LOCATION:Hennessy’s\, 25 Union St.\, Boston\, MA\, 02108\, United States
GEO:42.3610028;-71.0567294
X-APPLE-STRUCTURED-LOCATION;VALUE=URI;X-ADDRESS=Hennessy’s 25 Union St. Boston MA 02108 United States;X-APPLE-RADIUS=500;X-TITLE=25 Union St.:geo:-71.0567294,42.3610028
END:VEVENT
END:VCALENDAR